BEGIN:VCALENDAR
VERSION:2.0
PRODID:-//Tricky Topics - ECPv6.9.0//NONSGML v1.0//EN
CALSCALE:GREGORIAN
METHOD:PUBLISH
X-WR-CALNAME:Tricky Topics
X-ORIGINAL-URL:https://tricky-topics-guide.ac.uk
X-WR-CALDESC:Events for Tricky Topics
REFRESH-INTERVAL;VALUE=DURATION:PT1H
X-Robots-Tag:noindex
X-PUBLISHED-TTL:PT1H
BEGIN:VTIMEZONE
TZID:Europe/London
BEGIN:DAYLIGHT
TZOFFSETFROM:+0000
TZOFFSETTO:+0100
TZNAME:BST
DTSTART:20160327T010000
END:DAYLIGHT
BEGIN:STANDARD
TZOFFSETFROM:+0100
TZOFFSETTO:+0000
TZNAME:GMT
DTSTART:20161030T010000
END:STANDARD
END:VTIMEZONE
BEGIN:VEVENT
DTSTART;VALUE=DATE:20161020
DTEND;VALUE=DATE:20161021
DTSTAMP:20260425T145736
CREATED:20170111T114857Z
LAST-MODIFIED:20170111T115830Z
UID:140-1476921600-1477007999@tricky-topics-guide.ac.uk
SUMMARY:Teaching Tricky Topics workshop
DESCRIPTION:20th October 2016\, at the Open University Campus in Milton Keynes. This session was to investigate Tricky Topics in Learning Design and Technologies as the ‘Teaching Tricky Topics’ process is completed by the OU’s own designers and developers.
URL:https://tricky-topics-guide.ac.uk/event/teaching-tricky-topics-workshop/
LOCATION:The Open University campus\, Walton Hall\, Milton Keynes\, MK7 6AA\, United Kingdom
END:VEVENT
BEGIN:VEVENT
DTSTART;VALUE=DATE:20160818
DTEND;VALUE=DATE:20160819
DTSTAMP:20260425T145736
CREATED:20170111T120159Z
LAST-MODIFIED:20170111T120159Z
UID:146-1471478400-1471564799@tricky-topics-guide.ac.uk
SUMMARY:Teaching Tricky Topics workshop
DESCRIPTION:18th August 2016\, at the Open University Campus in Milton Keynes. It was specifically for those STEM teachers teaching in a prison (or other secure) environment.
URL:https://tricky-topics-guide.ac.uk/event/teaching-tricky-topics-workshop-2/
LOCATION:The Open University campus\, Walton Hall\, Milton Keynes\, MK7 6AA\, United Kingdom
END:VEVENT
END:VCALENDAR