BEGIN:VCALENDAR
VERSION:2.0
PRODID:-//Tricky Topics - ECPv6.9.0//NONSGML v1.0//EN
CALSCALE:GREGORIAN
METHOD:PUBLISH
X-ORIGINAL-URL:https://tricky-topics-guide.ac.uk
X-WR-CALDESC:Events for Tricky Topics
REFRESH-INTERVAL;VALUE=DURATION:PT1H
X-Robots-Tag:noindex
X-PUBLISHED-TTL:PT1H
BEGIN:VTIMEZONE
TZID:Europe/London
BEGIN:DAYLIGHT
TZOFFSETFROM:+0000
TZOFFSETTO:+0100
TZNAME:BST
DTSTART:20170326T010000
END:DAYLIGHT
BEGIN:STANDARD
TZOFFSETFROM:+0100
TZOFFSETTO:+0000
TZNAME:GMT
DTSTART:20171029T010000
END:STANDARD
END:VTIMEZONE
BEGIN:VEVENT
DTSTART;VALUE=DATE:20170125
DTEND;VALUE=DATE:20170129
DTSTAMP:20260425T023350
CREATED:20161213T163432Z
LAST-MODIFIED:20170119T143629Z
UID:84-1485302400-1485647999@tricky-topics-guide.ac.uk
SUMMARY:BETT 2017
DESCRIPTION:BETT 2017: We will be on stand F441 at the Bett Show (the world’s largest education event) at Excel\, London\, from 25th – 28th January 2017. \n \nSee our Bett profile at: http://www.bettshow.com/page.cfm/Action=Exhib/ExhibID=3083
URL:https://tricky-topics-guide.ac.uk/event/bett-2017/
LOCATION:ExCeL London\, Royal Victoria Dock 1 Western Gateway\, London\, E16 1XL\, United Kingdom
END:VEVENT
END:VCALENDAR