BEGIN:VCALENDAR
VERSION:2.0
PRODID:-//Tricky Topics - ECPv6.9.0//NONSGML v1.0//EN
CALSCALE:GREGORIAN
METHOD:PUBLISH
X-WR-CALNAME:Tricky Topics
X-ORIGINAL-URL:https://tricky-topics-guide.ac.uk
X-WR-CALDESC:Events for Tricky Topics
REFRESH-INTERVAL;VALUE=DURATION:PT1H
X-Robots-Tag:noindex
X-PUBLISHED-TTL:PT1H
BEGIN:VTIMEZONE
TZID:Europe/London
BEGIN:DAYLIGHT
TZOFFSETFROM:+0000
TZOFFSETTO:+0100
TZNAME:BST
DTSTART:20170326T010000
END:DAYLIGHT
BEGIN:STANDARD
TZOFFSETFROM:+0100
TZOFFSETTO:+0000
TZNAME:GMT
DTSTART:20171029T010000
END:STANDARD
END:VTIMEZONE
BEGIN:VEVENT
DTSTART;VALUE=DATE:20170520
DTEND;VALUE=DATE:20170521
DTSTAMP:20260424T212820
CREATED:20170303T120510Z
LAST-MODIFIED:20170303T120510Z
UID:227-1495238400-1495324799@tricky-topics-guide.ac.uk
SUMMARY:Maths lecturers workshop (MST124)
DESCRIPTION:Open University maths lecturers workshop (MST124) at Walton Hall 20th May 2017.
URL:https://tricky-topics-guide.ac.uk/event/maths-lecturers-workshop-mst124/
LOCATION:The Open University campus\, Walton Hall\, Milton Keynes\, MK7 6AA\, United Kingdom
CATEGORIES:Workshops
END:VEVENT
END:VCALENDAR