BEGIN:VCALENDAR
VERSION:2.0
PRODID:-//Tricky Topics - ECPv6.9.0//NONSGML v1.0//EN
CALSCALE:GREGORIAN
METHOD:PUBLISH
X-WR-CALNAME:Tricky Topics
X-ORIGINAL-URL:https://tricky-topics-guide.ac.uk
X-WR-CALDESC:Events for Tricky Topics
REFRESH-INTERVAL;VALUE=DURATION:PT1H
X-Robots-Tag:noindex
X-PUBLISHED-TTL:PT1H
BEGIN:VTIMEZONE
TZID:Europe/London
BEGIN:DAYLIGHT
TZOFFSETFROM:+0000
TZOFFSETTO:+0100
TZNAME:BST
DTSTART:20170326T010000
END:DAYLIGHT
BEGIN:STANDARD
TZOFFSETFROM:+0100
TZOFFSETTO:+0000
TZNAME:GMT
DTSTART:20171029T010000
END:STANDARD
END:VTIMEZONE
BEGIN:VEVENT
DTSTART;VALUE=DATE:20170304
DTEND;VALUE=DATE:20170305
DTSTAMP:20260422T070659
CREATED:20170303T120334Z
LAST-MODIFIED:20170303T121122Z
UID:225-1488585600-1488671999@tricky-topics-guide.ac.uk
SUMMARY:Online workshop for chemistry teachers (S215)
DESCRIPTION:First online workshop with Open University chemistry teachers (S215) 4th March 2017.
URL:https://tricky-topics-guide.ac.uk/event/online-workshop-for-chemistry-teachers-s215/
CATEGORIES:Workshops
END:VEVENT
END:VCALENDAR